BEGIN:VCALENDAR
VERSION:2.0
PRODID:-//ELISA - ECPv6.15.20//NONSGML v1.0//EN
CALSCALE:GREGORIAN
METHOD:PUBLISH
X-ORIGINAL-URL:https://elisa.tech
X-WR-CALDESC:Events for ELISA
REFRESH-INTERVAL;VALUE=DURATION:PT1H
X-Robots-Tag:noindex
X-PUBLISHED-TTL:PT1H
BEGIN:VTIMEZONE
TZID:America/Los_Angeles
BEGIN:DAYLIGHT
TZOFFSETFROM:-0800
TZOFFSETTO:-0700
TZNAME:PDT
DTSTART:20200308T100000
END:DAYLIGHT
BEGIN:STANDARD
TZOFFSETFROM:-0700
TZOFFSETTO:-0800
TZNAME:PST
DTSTART:20201101T090000
END:STANDARD
BEGIN:DAYLIGHT
TZOFFSETFROM:-0800
TZOFFSETTO:-0700
TZNAME:PDT
DTSTART:20210314T100000
END:DAYLIGHT
BEGIN:STANDARD
TZOFFSETFROM:-0700
TZOFFSETTO:-0800
TZNAME:PST
DTSTART:20211107T090000
END:STANDARD
BEGIN:DAYLIGHT
TZOFFSETFROM:-0800
TZOFFSETTO:-0700
TZNAME:PDT
DTSTART:20220313T100000
END:DAYLIGHT
BEGIN:STANDARD
TZOFFSETFROM:-0700
TZOFFSETTO:-0800
TZNAME:PST
DTSTART:20221106T090000
END:STANDARD
END:VTIMEZONE
BEGIN:VEVENT
DTSTART;VALUE=DATE:20211108
DTEND;VALUE=DATE:20211111
DTSTAMP:20260422T085545
CREATED:20211029T184357Z
LAST-MODIFIED:20211029T184357Z
UID:10000006-1636329600-1636588799@elisa.tech
SUMMARY:ELISA Workshop
DESCRIPTION:Join the ELISA technical community on November 8-10 to continue advancing on topics and work relevant to functional safety and Linux applications. The ELISA Workshop series is focused on the exchange of ideas and feedback from the Linux kernel and Safety communities\, as productive collaboration to make tangible progress toward achieving the mission and goals of the ELISA Project.  The workshops also provide an informative overview for new and interested community members. \nThe event is free to attend. Register and check out the schedule here: https://events.linuxfoundation.org/elisa-workshop/.
URL:https://elisa.tech/event/elisa-workshop-2/
CATEGORIES:Workshop
ATTACH;FMTTYPE=image/png:https://elisa.tech/wp-content/uploads/sites/19/2021/10/Screen-Shot-2021-04-21-at-2.45.01-PM.png
END:VEVENT
END:VCALENDAR